BEGIN:VCALENDAR
VERSION:2.0
PRODID:-//LA County Brewers Guild - ECPv6.15.20//NONSGML v1.0//EN
CALSCALE:GREGORIAN
METHOD:PUBLISH
X-WR-CALNAME:LA County Brewers Guild
X-ORIGINAL-URL:https://labrewersguild.org
X-WR-CALDESC:Events for LA County Brewers Guild
REFRESH-INTERVAL;VALUE=DURATION:PT1H
X-Robots-Tag:noindex
X-PUBLISHED-TTL:PT1H
BEGIN:VTIMEZONE
TZID:America/Los_Angeles
BEGIN:DAYLIGHT
TZOFFSETFROM:-0800
TZOFFSETTO:-0700
TZNAME:PDT
DTSTART:20240310T100000
END:DAYLIGHT
BEGIN:STANDARD
TZOFFSETFROM:-0700
TZOFFSETTO:-0800
TZNAME:PST
DTSTART:20241103T090000
END:STANDARD
BEGIN:DAYLIGHT
TZOFFSETFROM:-0800
TZOFFSETTO:-0700
TZNAME:PDT
DTSTART:20250309T100000
END:DAYLIGHT
BEGIN:STANDARD
TZOFFSETFROM:-0700
TZOFFSETTO:-0800
TZNAME:PST
DTSTART:20251102T090000
END:STANDARD
BEGIN:DAYLIGHT
TZOFFSETFROM:-0800
TZOFFSETTO:-0700
TZNAME:PDT
DTSTART:20260308T100000
END:DAYLIGHT
BEGIN:STANDARD
TZOFFSETFROM:-0700
TZOFFSETTO:-0800
TZNAME:PST
DTSTART:20261101T090000
END:STANDARD
END:VTIMEZONE
BEGIN:VEVENT
DTSTART;TZID=America/Los_Angeles:20250412T110000
DTEND;TZID=America/Los_Angeles:20250412T120000
DTSTAMP:20260423T073749
CREATED:20240621T170645Z
LAST-MODIFIED:20240720T194015Z
UID:10000510-1744455600-1744459200@labrewersguild.org
SUMMARY:Brewery Yoga at Trademark Brewing
DESCRIPTION:Join us every Saturday for BREWERY YOGA and namasté for a recovery beer at Trademark Brewing!\n$15 admission includes: \n\nOne hour of professional instruction by a certified yoga teacher.\nUnlimited ujjayi breathing.\nLimitless balance and inner peace.\nImproved flexibility and core strength.\nOne deliciously refreshing recovery beer.\nFree Parking is available at our lot: 1401 Long Beach Blvd with 100+ spaces! \n\nClasses start at 11 am. Please bring your own mats and arrive 10 minutes early.
URL:https://labrewersguild.org/event/brewery-yoga-at-trademark-brewing/2025-04-12/
CATEGORIES:Family Friendly,Other
ATTACH;FMTTYPE=image/png:https://labrewersguild.org/wp-content/uploads/2024/06/Posters-square.png
END:VEVENT
BEGIN:VEVENT
DTSTART;TZID=America/Los_Angeles:20250409T173000
DTEND;TZID=America/Los_Angeles:20250409T210000
DTSTAMP:20260423T073749
CREATED:20240619T172209Z
LAST-MODIFIED:20240619T172209Z
UID:10000095-1744219800-1744232400@labrewersguild.org
SUMMARY:Cornhole Tourny at Trademark
DESCRIPTION:Join us for cornhole Tournaments at Trademark Brewing! \nAll skill levels are welcome! \nHosted by: Long Beach Cornhole \n5:30 check-in / 6:30 game on!
URL:https://labrewersguild.org/event/cornhole-tourny-at-trademark/2025-04-09/
CATEGORIES:Family Friendly,Other
ATTACH;FMTTYPE=image/jpeg:https://labrewersguild.org/wp-content/uploads/2024/06/TM_Cornhole_Banner-Header.jpg
END:VEVENT
BEGIN:VEVENT
DTSTART;TZID=America/Los_Angeles:20250408T183000
DTEND;TZID=America/Los_Angeles:20250408T203000
DTSTAMP:20260423T073749
CREATED:20240905T030915Z
LAST-MODIFIED:20240905T031333Z
UID:10000782-1744137000-1744144200@labrewersguild.org
SUMMARY:Trivia with Gabe at Common Space Brewery
DESCRIPTION:Grab a group of smart and witty friends and join us for Trivia every Tuesday at 6:30pm in our taproom in Hawthorne\, CA. Play and win a variety of prizes from gift cards to beers. We are dog friendly and family friendly. Max groups of 6.
URL:https://labrewersguild.org/event/trivia-with-gabe-at-common-space-brewery/2025-04-08/
LOCATION:Common Space Brewery\, 3411 W El Segundo Blvd\, Hawthorne\, CA\, 90250\, United States
CATEGORIES:Other
ATTACH;FMTTYPE=image/png:https://labrewersguild.org/wp-content/uploads/2024/09/Trivia-with-Gabe-5-x-5-in-1.png
END:VEVENT
BEGIN:VEVENT
DTSTART;TZID=America/Los_Angeles:20250405T110000
DTEND;TZID=America/Los_Angeles:20250405T120000
DTSTAMP:20260423T073749
CREATED:20240621T170645Z
LAST-MODIFIED:20240720T194015Z
UID:10000509-1743850800-1743854400@labrewersguild.org
SUMMARY:Brewery Yoga at Trademark Brewing
DESCRIPTION:Join us every Saturday for BREWERY YOGA and namasté for a recovery beer at Trademark Brewing!\n$15 admission includes: \n\nOne hour of professional instruction by a certified yoga teacher.\nUnlimited ujjayi breathing.\nLimitless balance and inner peace.\nImproved flexibility and core strength.\nOne deliciously refreshing recovery beer.\nFree Parking is available at our lot: 1401 Long Beach Blvd with 100+ spaces! \n\nClasses start at 11 am. Please bring your own mats and arrive 10 minutes early.
URL:https://labrewersguild.org/event/brewery-yoga-at-trademark-brewing/2025-04-05/
CATEGORIES:Family Friendly,Other
ATTACH;FMTTYPE=image/png:https://labrewersguild.org/wp-content/uploads/2024/06/Posters-square.png
END:VEVENT
BEGIN:VEVENT
DTSTART;TZID=America/Los_Angeles:20250401T183000
DTEND;TZID=America/Los_Angeles:20250401T203000
DTSTAMP:20260423T073749
CREATED:20240905T030915Z
LAST-MODIFIED:20240905T031333Z
UID:10000781-1743532200-1743539400@labrewersguild.org
SUMMARY:Trivia with Gabe at Common Space Brewery
DESCRIPTION:Grab a group of smart and witty friends and join us for Trivia every Tuesday at 6:30pm in our taproom in Hawthorne\, CA. Play and win a variety of prizes from gift cards to beers. We are dog friendly and family friendly. Max groups of 6.
URL:https://labrewersguild.org/event/trivia-with-gabe-at-common-space-brewery/2025-04-01/
LOCATION:Common Space Brewery\, 3411 W El Segundo Blvd\, Hawthorne\, CA\, 90250\, United States
CATEGORIES:Other
ATTACH;FMTTYPE=image/png:https://labrewersguild.org/wp-content/uploads/2024/09/Trivia-with-Gabe-5-x-5-in-1.png
END:VEVENT
BEGIN:VEVENT
DTSTART;TZID=America/Los_Angeles:20250329T110000
DTEND;TZID=America/Los_Angeles:20250329T120000
DTSTAMP:20260423T073749
CREATED:20240621T170645Z
LAST-MODIFIED:20240720T194015Z
UID:10000508-1743246000-1743249600@labrewersguild.org
SUMMARY:Brewery Yoga at Trademark Brewing
DESCRIPTION:Join us every Saturday for BREWERY YOGA and namasté for a recovery beer at Trademark Brewing!\n$15 admission includes: \n\nOne hour of professional instruction by a certified yoga teacher.\nUnlimited ujjayi breathing.\nLimitless balance and inner peace.\nImproved flexibility and core strength.\nOne deliciously refreshing recovery beer.\nFree Parking is available at our lot: 1401 Long Beach Blvd with 100+ spaces! \n\nClasses start at 11 am. Please bring your own mats and arrive 10 minutes early.
URL:https://labrewersguild.org/event/brewery-yoga-at-trademark-brewing/2025-03-29/
CATEGORIES:Family Friendly,Other
ATTACH;FMTTYPE=image/png:https://labrewersguild.org/wp-content/uploads/2024/06/Posters-square.png
END:VEVENT
BEGIN:VEVENT
DTSTART;TZID=America/Los_Angeles:20250326T173000
DTEND;TZID=America/Los_Angeles:20250326T210000
DTSTAMP:20260423T073749
CREATED:20240619T172209Z
LAST-MODIFIED:20240619T172209Z
UID:10000094-1743010200-1743022800@labrewersguild.org
SUMMARY:Cornhole Tourny at Trademark
DESCRIPTION:Join us for cornhole Tournaments at Trademark Brewing! \nAll skill levels are welcome! \nHosted by: Long Beach Cornhole \n5:30 check-in / 6:30 game on!
URL:https://labrewersguild.org/event/cornhole-tourny-at-trademark/2025-03-26/
CATEGORIES:Family Friendly,Other
ATTACH;FMTTYPE=image/jpeg:https://labrewersguild.org/wp-content/uploads/2024/06/TM_Cornhole_Banner-Header.jpg
END:VEVENT
BEGIN:VEVENT
DTSTART;TZID=America/Los_Angeles:20250325T183000
DTEND;TZID=America/Los_Angeles:20250325T203000
DTSTAMP:20260423T073749
CREATED:20240905T030915Z
LAST-MODIFIED:20240905T031333Z
UID:10000780-1742927400-1742934600@labrewersguild.org
SUMMARY:Trivia with Gabe at Common Space Brewery
DESCRIPTION:Grab a group of smart and witty friends and join us for Trivia every Tuesday at 6:30pm in our taproom in Hawthorne\, CA. Play and win a variety of prizes from gift cards to beers. We are dog friendly and family friendly. Max groups of 6.
URL:https://labrewersguild.org/event/trivia-with-gabe-at-common-space-brewery/2025-03-25/
LOCATION:Common Space Brewery\, 3411 W El Segundo Blvd\, Hawthorne\, CA\, 90250\, United States
CATEGORIES:Other
ATTACH;FMTTYPE=image/png:https://labrewersguild.org/wp-content/uploads/2024/09/Trivia-with-Gabe-5-x-5-in-1.png
END:VEVENT
BEGIN:VEVENT
DTSTART;TZID=America/Los_Angeles:20250322T110000
DTEND;TZID=America/Los_Angeles:20250322T120000
DTSTAMP:20260423T073749
CREATED:20240621T170645Z
LAST-MODIFIED:20240720T194015Z
UID:10000507-1742641200-1742644800@labrewersguild.org
SUMMARY:Brewery Yoga at Trademark Brewing
DESCRIPTION:Join us every Saturday for BREWERY YOGA and namasté for a recovery beer at Trademark Brewing!\n$15 admission includes: \n\nOne hour of professional instruction by a certified yoga teacher.\nUnlimited ujjayi breathing.\nLimitless balance and inner peace.\nImproved flexibility and core strength.\nOne deliciously refreshing recovery beer.\nFree Parking is available at our lot: 1401 Long Beach Blvd with 100+ spaces! \n\nClasses start at 11 am. Please bring your own mats and arrive 10 minutes early.
URL:https://labrewersguild.org/event/brewery-yoga-at-trademark-brewing/2025-03-22/
CATEGORIES:Family Friendly,Other
ATTACH;FMTTYPE=image/png:https://labrewersguild.org/wp-content/uploads/2024/06/Posters-square.png
END:VEVENT
BEGIN:VEVENT
DTSTART;TZID=America/Los_Angeles:20250318T183000
DTEND;TZID=America/Los_Angeles:20250318T203000
DTSTAMP:20260423T073749
CREATED:20240905T030915Z
LAST-MODIFIED:20240905T031333Z
UID:10000779-1742322600-1742329800@labrewersguild.org
SUMMARY:Trivia with Gabe at Common Space Brewery
DESCRIPTION:Grab a group of smart and witty friends and join us for Trivia every Tuesday at 6:30pm in our taproom in Hawthorne\, CA. Play and win a variety of prizes from gift cards to beers. We are dog friendly and family friendly. Max groups of 6.
URL:https://labrewersguild.org/event/trivia-with-gabe-at-common-space-brewery/2025-03-18/
LOCATION:Common Space Brewery\, 3411 W El Segundo Blvd\, Hawthorne\, CA\, 90250\, United States
CATEGORIES:Other
ATTACH;FMTTYPE=image/png:https://labrewersguild.org/wp-content/uploads/2024/09/Trivia-with-Gabe-5-x-5-in-1.png
END:VEVENT
BEGIN:VEVENT
DTSTART;TZID=America/Los_Angeles:20250315T110000
DTEND;TZID=America/Los_Angeles:20250315T120000
DTSTAMP:20260423T073749
CREATED:20240621T170645Z
LAST-MODIFIED:20240720T194015Z
UID:10000506-1742036400-1742040000@labrewersguild.org
SUMMARY:Brewery Yoga at Trademark Brewing
DESCRIPTION:Join us every Saturday for BREWERY YOGA and namasté for a recovery beer at Trademark Brewing!\n$15 admission includes: \n\nOne hour of professional instruction by a certified yoga teacher.\nUnlimited ujjayi breathing.\nLimitless balance and inner peace.\nImproved flexibility and core strength.\nOne deliciously refreshing recovery beer.\nFree Parking is available at our lot: 1401 Long Beach Blvd with 100+ spaces! \n\nClasses start at 11 am. Please bring your own mats and arrive 10 minutes early.
URL:https://labrewersguild.org/event/brewery-yoga-at-trademark-brewing/2025-03-15/
CATEGORIES:Family Friendly,Other
ATTACH;FMTTYPE=image/png:https://labrewersguild.org/wp-content/uploads/2024/06/Posters-square.png
END:VEVENT
BEGIN:VEVENT
DTSTART;TZID=America/Los_Angeles:20250312T173000
DTEND;TZID=America/Los_Angeles:20250312T210000
DTSTAMP:20260423T073749
CREATED:20240619T172209Z
LAST-MODIFIED:20240619T172209Z
UID:10000093-1741800600-1741813200@labrewersguild.org
SUMMARY:Cornhole Tourny at Trademark
DESCRIPTION:Join us for cornhole Tournaments at Trademark Brewing! \nAll skill levels are welcome! \nHosted by: Long Beach Cornhole \n5:30 check-in / 6:30 game on!
URL:https://labrewersguild.org/event/cornhole-tourny-at-trademark/2025-03-12/
CATEGORIES:Family Friendly,Other
ATTACH;FMTTYPE=image/jpeg:https://labrewersguild.org/wp-content/uploads/2024/06/TM_Cornhole_Banner-Header.jpg
END:VEVENT
BEGIN:VEVENT
DTSTART;TZID=America/Los_Angeles:20250311T183000
DTEND;TZID=America/Los_Angeles:20250311T203000
DTSTAMP:20260423T073749
CREATED:20240905T030915Z
LAST-MODIFIED:20240905T031333Z
UID:10000778-1741717800-1741725000@labrewersguild.org
SUMMARY:Trivia with Gabe at Common Space Brewery
DESCRIPTION:Grab a group of smart and witty friends and join us for Trivia every Tuesday at 6:30pm in our taproom in Hawthorne\, CA. Play and win a variety of prizes from gift cards to beers. We are dog friendly and family friendly. Max groups of 6.
URL:https://labrewersguild.org/event/trivia-with-gabe-at-common-space-brewery/2025-03-11/
LOCATION:Common Space Brewery\, 3411 W El Segundo Blvd\, Hawthorne\, CA\, 90250\, United States
CATEGORIES:Other
ATTACH;FMTTYPE=image/png:https://labrewersguild.org/wp-content/uploads/2024/09/Trivia-with-Gabe-5-x-5-in-1.png
END:VEVENT
BEGIN:VEVENT
DTSTART;TZID=America/Los_Angeles:20250308T110000
DTEND;TZID=America/Los_Angeles:20250308T120000
DTSTAMP:20260423T073749
CREATED:20240621T170645Z
LAST-MODIFIED:20240720T194015Z
UID:10000505-1741431600-1741435200@labrewersguild.org
SUMMARY:Brewery Yoga at Trademark Brewing
DESCRIPTION:Join us every Saturday for BREWERY YOGA and namasté for a recovery beer at Trademark Brewing!\n$15 admission includes: \n\nOne hour of professional instruction by a certified yoga teacher.\nUnlimited ujjayi breathing.\nLimitless balance and inner peace.\nImproved flexibility and core strength.\nOne deliciously refreshing recovery beer.\nFree Parking is available at our lot: 1401 Long Beach Blvd with 100+ spaces! \n\nClasses start at 11 am. Please bring your own mats and arrive 10 minutes early.
URL:https://labrewersguild.org/event/brewery-yoga-at-trademark-brewing/2025-03-08/
CATEGORIES:Family Friendly,Other
ATTACH;FMTTYPE=image/png:https://labrewersguild.org/wp-content/uploads/2024/06/Posters-square.png
END:VEVENT
BEGIN:VEVENT
DTSTART;TZID=America/Los_Angeles:20250304T183000
DTEND;TZID=America/Los_Angeles:20250304T203000
DTSTAMP:20260423T073749
CREATED:20240905T030915Z
LAST-MODIFIED:20240905T031333Z
UID:10000777-1741113000-1741120200@labrewersguild.org
SUMMARY:Trivia with Gabe at Common Space Brewery
DESCRIPTION:Grab a group of smart and witty friends and join us for Trivia every Tuesday at 6:30pm in our taproom in Hawthorne\, CA. Play and win a variety of prizes from gift cards to beers. We are dog friendly and family friendly. Max groups of 6.
URL:https://labrewersguild.org/event/trivia-with-gabe-at-common-space-brewery/2025-03-04/
LOCATION:Common Space Brewery\, 3411 W El Segundo Blvd\, Hawthorne\, CA\, 90250\, United States
CATEGORIES:Other
ATTACH;FMTTYPE=image/png:https://labrewersguild.org/wp-content/uploads/2024/09/Trivia-with-Gabe-5-x-5-in-1.png
END:VEVENT
BEGIN:VEVENT
DTSTART;TZID=America/Los_Angeles:20250301T110000
DTEND;TZID=America/Los_Angeles:20250301T120000
DTSTAMP:20260423T073749
CREATED:20240621T170645Z
LAST-MODIFIED:20240720T194015Z
UID:10000504-1740826800-1740830400@labrewersguild.org
SUMMARY:Brewery Yoga at Trademark Brewing
DESCRIPTION:Join us every Saturday for BREWERY YOGA and namasté for a recovery beer at Trademark Brewing!\n$15 admission includes: \n\nOne hour of professional instruction by a certified yoga teacher.\nUnlimited ujjayi breathing.\nLimitless balance and inner peace.\nImproved flexibility and core strength.\nOne deliciously refreshing recovery beer.\nFree Parking is available at our lot: 1401 Long Beach Blvd with 100+ spaces! \n\nClasses start at 11 am. Please bring your own mats and arrive 10 minutes early.
URL:https://labrewersguild.org/event/brewery-yoga-at-trademark-brewing/2025-03-01/
CATEGORIES:Family Friendly,Other
ATTACH;FMTTYPE=image/png:https://labrewersguild.org/wp-content/uploads/2024/06/Posters-square.png
END:VEVENT
BEGIN:VEVENT
DTSTART;TZID=America/Los_Angeles:20250226T173000
DTEND;TZID=America/Los_Angeles:20250226T210000
DTSTAMP:20260423T073749
CREATED:20240619T172209Z
LAST-MODIFIED:20240619T172209Z
UID:10000092-1740591000-1740603600@labrewersguild.org
SUMMARY:Cornhole Tourny at Trademark
DESCRIPTION:Join us for cornhole Tournaments at Trademark Brewing! \nAll skill levels are welcome! \nHosted by: Long Beach Cornhole \n5:30 check-in / 6:30 game on!
URL:https://labrewersguild.org/event/cornhole-tourny-at-trademark/2025-02-26/
CATEGORIES:Family Friendly,Other
ATTACH;FMTTYPE=image/jpeg:https://labrewersguild.org/wp-content/uploads/2024/06/TM_Cornhole_Banner-Header.jpg
END:VEVENT
BEGIN:VEVENT
DTSTART;TZID=America/Los_Angeles:20250225T183000
DTEND;TZID=America/Los_Angeles:20250225T203000
DTSTAMP:20260423T073749
CREATED:20240905T030915Z
LAST-MODIFIED:20240905T031333Z
UID:10000776-1740508200-1740515400@labrewersguild.org
SUMMARY:Trivia with Gabe at Common Space Brewery
DESCRIPTION:Grab a group of smart and witty friends and join us for Trivia every Tuesday at 6:30pm in our taproom in Hawthorne\, CA. Play and win a variety of prizes from gift cards to beers. We are dog friendly and family friendly. Max groups of 6.
URL:https://labrewersguild.org/event/trivia-with-gabe-at-common-space-brewery/2025-02-25/
LOCATION:Common Space Brewery\, 3411 W El Segundo Blvd\, Hawthorne\, CA\, 90250\, United States
CATEGORIES:Other
ATTACH;FMTTYPE=image/png:https://labrewersguild.org/wp-content/uploads/2024/09/Trivia-with-Gabe-5-x-5-in-1.png
END:VEVENT
BEGIN:VEVENT
DTSTART;TZID=America/Los_Angeles:20250222T110000
DTEND;TZID=America/Los_Angeles:20250222T120000
DTSTAMP:20260423T073749
CREATED:20240621T170645Z
LAST-MODIFIED:20240720T194015Z
UID:10000503-1740222000-1740225600@labrewersguild.org
SUMMARY:Brewery Yoga at Trademark Brewing
DESCRIPTION:Join us every Saturday for BREWERY YOGA and namasté for a recovery beer at Trademark Brewing!\n$15 admission includes: \n\nOne hour of professional instruction by a certified yoga teacher.\nUnlimited ujjayi breathing.\nLimitless balance and inner peace.\nImproved flexibility and core strength.\nOne deliciously refreshing recovery beer.\nFree Parking is available at our lot: 1401 Long Beach Blvd with 100+ spaces! \n\nClasses start at 11 am. Please bring your own mats and arrive 10 minutes early.
URL:https://labrewersguild.org/event/brewery-yoga-at-trademark-brewing/2025-02-22/
CATEGORIES:Family Friendly,Other
ATTACH;FMTTYPE=image/png:https://labrewersguild.org/wp-content/uploads/2024/06/Posters-square.png
END:VEVENT
BEGIN:VEVENT
DTSTART;TZID=America/Los_Angeles:20250218T183000
DTEND;TZID=America/Los_Angeles:20250218T203000
DTSTAMP:20260423T073749
CREATED:20240905T030915Z
LAST-MODIFIED:20240905T031333Z
UID:10000775-1739903400-1739910600@labrewersguild.org
SUMMARY:Trivia with Gabe at Common Space Brewery
DESCRIPTION:Grab a group of smart and witty friends and join us for Trivia every Tuesday at 6:30pm in our taproom in Hawthorne\, CA. Play and win a variety of prizes from gift cards to beers. We are dog friendly and family friendly. Max groups of 6.
URL:https://labrewersguild.org/event/trivia-with-gabe-at-common-space-brewery/2025-02-18/
LOCATION:Common Space Brewery\, 3411 W El Segundo Blvd\, Hawthorne\, CA\, 90250\, United States
CATEGORIES:Other
ATTACH;FMTTYPE=image/png:https://labrewersguild.org/wp-content/uploads/2024/09/Trivia-with-Gabe-5-x-5-in-1.png
END:VEVENT
BEGIN:VEVENT
DTSTART;TZID=America/Los_Angeles:20250215T110000
DTEND;TZID=America/Los_Angeles:20250215T120000
DTSTAMP:20260423T073749
CREATED:20240621T170645Z
LAST-MODIFIED:20240720T194015Z
UID:10000502-1739617200-1739620800@labrewersguild.org
SUMMARY:Brewery Yoga at Trademark Brewing
DESCRIPTION:Join us every Saturday for BREWERY YOGA and namasté for a recovery beer at Trademark Brewing!\n$15 admission includes: \n\nOne hour of professional instruction by a certified yoga teacher.\nUnlimited ujjayi breathing.\nLimitless balance and inner peace.\nImproved flexibility and core strength.\nOne deliciously refreshing recovery beer.\nFree Parking is available at our lot: 1401 Long Beach Blvd with 100+ spaces! \n\nClasses start at 11 am. Please bring your own mats and arrive 10 minutes early.
URL:https://labrewersguild.org/event/brewery-yoga-at-trademark-brewing/2025-02-15/
CATEGORIES:Family Friendly,Other
ATTACH;FMTTYPE=image/png:https://labrewersguild.org/wp-content/uploads/2024/06/Posters-square.png
END:VEVENT
BEGIN:VEVENT
DTSTART;TZID=America/Los_Angeles:20250212T173000
DTEND;TZID=America/Los_Angeles:20250212T210000
DTSTAMP:20260423T073749
CREATED:20240619T172209Z
LAST-MODIFIED:20240619T172209Z
UID:10000091-1739381400-1739394000@labrewersguild.org
SUMMARY:Cornhole Tourny at Trademark
DESCRIPTION:Join us for cornhole Tournaments at Trademark Brewing! \nAll skill levels are welcome! \nHosted by: Long Beach Cornhole \n5:30 check-in / 6:30 game on!
URL:https://labrewersguild.org/event/cornhole-tourny-at-trademark/2025-02-12/
CATEGORIES:Family Friendly,Other
ATTACH;FMTTYPE=image/jpeg:https://labrewersguild.org/wp-content/uploads/2024/06/TM_Cornhole_Banner-Header.jpg
END:VEVENT
BEGIN:VEVENT
DTSTART;TZID=America/Los_Angeles:20250211T183000
DTEND;TZID=America/Los_Angeles:20250211T203000
DTSTAMP:20260423T073749
CREATED:20240905T030915Z
LAST-MODIFIED:20240905T031333Z
UID:10000774-1739298600-1739305800@labrewersguild.org
SUMMARY:Trivia with Gabe at Common Space Brewery
DESCRIPTION:Grab a group of smart and witty friends and join us for Trivia every Tuesday at 6:30pm in our taproom in Hawthorne\, CA. Play and win a variety of prizes from gift cards to beers. We are dog friendly and family friendly. Max groups of 6.
URL:https://labrewersguild.org/event/trivia-with-gabe-at-common-space-brewery/2025-02-11/
LOCATION:Common Space Brewery\, 3411 W El Segundo Blvd\, Hawthorne\, CA\, 90250\, United States
CATEGORIES:Other
ATTACH;FMTTYPE=image/png:https://labrewersguild.org/wp-content/uploads/2024/09/Trivia-with-Gabe-5-x-5-in-1.png
END:VEVENT
BEGIN:VEVENT
DTSTART;TZID=America/Los_Angeles:20250208T110000
DTEND;TZID=America/Los_Angeles:20250208T120000
DTSTAMP:20260423T073749
CREATED:20240621T170645Z
LAST-MODIFIED:20240720T194015Z
UID:10000501-1739012400-1739016000@labrewersguild.org
SUMMARY:Brewery Yoga at Trademark Brewing
DESCRIPTION:Join us every Saturday for BREWERY YOGA and namasté for a recovery beer at Trademark Brewing!\n$15 admission includes: \n\nOne hour of professional instruction by a certified yoga teacher.\nUnlimited ujjayi breathing.\nLimitless balance and inner peace.\nImproved flexibility and core strength.\nOne deliciously refreshing recovery beer.\nFree Parking is available at our lot: 1401 Long Beach Blvd with 100+ spaces! \n\nClasses start at 11 am. Please bring your own mats and arrive 10 minutes early.
URL:https://labrewersguild.org/event/brewery-yoga-at-trademark-brewing/2025-02-08/
CATEGORIES:Family Friendly,Other
ATTACH;FMTTYPE=image/png:https://labrewersguild.org/wp-content/uploads/2024/06/Posters-square.png
END:VEVENT
BEGIN:VEVENT
DTSTART;TZID=America/Los_Angeles:20250204T183000
DTEND;TZID=America/Los_Angeles:20250204T203000
DTSTAMP:20260423T073749
CREATED:20240905T030915Z
LAST-MODIFIED:20240905T031333Z
UID:10000773-1738693800-1738701000@labrewersguild.org
SUMMARY:Trivia with Gabe at Common Space Brewery
DESCRIPTION:Grab a group of smart and witty friends and join us for Trivia every Tuesday at 6:30pm in our taproom in Hawthorne\, CA. Play and win a variety of prizes from gift cards to beers. We are dog friendly and family friendly. Max groups of 6.
URL:https://labrewersguild.org/event/trivia-with-gabe-at-common-space-brewery/2025-02-04/
LOCATION:Common Space Brewery\, 3411 W El Segundo Blvd\, Hawthorne\, CA\, 90250\, United States
CATEGORIES:Other
ATTACH;FMTTYPE=image/png:https://labrewersguild.org/wp-content/uploads/2024/09/Trivia-with-Gabe-5-x-5-in-1.png
END:VEVENT
BEGIN:VEVENT
DTSTART;TZID=America/Los_Angeles:20250201T110000
DTEND;TZID=America/Los_Angeles:20250201T120000
DTSTAMP:20260423T073749
CREATED:20240621T170645Z
LAST-MODIFIED:20240720T194015Z
UID:10000500-1738407600-1738411200@labrewersguild.org
SUMMARY:Brewery Yoga at Trademark Brewing
DESCRIPTION:Join us every Saturday for BREWERY YOGA and namasté for a recovery beer at Trademark Brewing!\n$15 admission includes: \n\nOne hour of professional instruction by a certified yoga teacher.\nUnlimited ujjayi breathing.\nLimitless balance and inner peace.\nImproved flexibility and core strength.\nOne deliciously refreshing recovery beer.\nFree Parking is available at our lot: 1401 Long Beach Blvd with 100+ spaces! \n\nClasses start at 11 am. Please bring your own mats and arrive 10 minutes early.
URL:https://labrewersguild.org/event/brewery-yoga-at-trademark-brewing/2025-02-01/
CATEGORIES:Family Friendly,Other
ATTACH;FMTTYPE=image/png:https://labrewersguild.org/wp-content/uploads/2024/06/Posters-square.png
END:VEVENT
BEGIN:VEVENT
DTSTART;TZID=America/Los_Angeles:20250129T173000
DTEND;TZID=America/Los_Angeles:20250129T210000
DTSTAMP:20260423T073749
CREATED:20240619T172209Z
LAST-MODIFIED:20240619T172209Z
UID:10000090-1738171800-1738184400@labrewersguild.org
SUMMARY:Cornhole Tourny at Trademark
DESCRIPTION:Join us for cornhole Tournaments at Trademark Brewing! \nAll skill levels are welcome! \nHosted by: Long Beach Cornhole \n5:30 check-in / 6:30 game on!
URL:https://labrewersguild.org/event/cornhole-tourny-at-trademark/2025-01-29/
CATEGORIES:Family Friendly,Other
ATTACH;FMTTYPE=image/jpeg:https://labrewersguild.org/wp-content/uploads/2024/06/TM_Cornhole_Banner-Header.jpg
END:VEVENT
BEGIN:VEVENT
DTSTART;TZID=America/Los_Angeles:20250128T183000
DTEND;TZID=America/Los_Angeles:20250128T203000
DTSTAMP:20260423T073749
CREATED:20240905T030915Z
LAST-MODIFIED:20240905T031333Z
UID:10000772-1738089000-1738096200@labrewersguild.org
SUMMARY:Trivia with Gabe at Common Space Brewery
DESCRIPTION:Grab a group of smart and witty friends and join us for Trivia every Tuesday at 6:30pm in our taproom in Hawthorne\, CA. Play and win a variety of prizes from gift cards to beers. We are dog friendly and family friendly. Max groups of 6.
URL:https://labrewersguild.org/event/trivia-with-gabe-at-common-space-brewery/2025-01-28/
LOCATION:Common Space Brewery\, 3411 W El Segundo Blvd\, Hawthorne\, CA\, 90250\, United States
CATEGORIES:Other
ATTACH;FMTTYPE=image/png:https://labrewersguild.org/wp-content/uploads/2024/09/Trivia-with-Gabe-5-x-5-in-1.png
END:VEVENT
BEGIN:VEVENT
DTSTART;TZID=America/Los_Angeles:20250125T110000
DTEND;TZID=America/Los_Angeles:20250125T120000
DTSTAMP:20260423T073749
CREATED:20240621T170645Z
LAST-MODIFIED:20240720T194015Z
UID:10000499-1737802800-1737806400@labrewersguild.org
SUMMARY:Brewery Yoga at Trademark Brewing
DESCRIPTION:Join us every Saturday for BREWERY YOGA and namasté for a recovery beer at Trademark Brewing!\n$15 admission includes: \n\nOne hour of professional instruction by a certified yoga teacher.\nUnlimited ujjayi breathing.\nLimitless balance and inner peace.\nImproved flexibility and core strength.\nOne deliciously refreshing recovery beer.\nFree Parking is available at our lot: 1401 Long Beach Blvd with 100+ spaces! \n\nClasses start at 11 am. Please bring your own mats and arrive 10 minutes early.
URL:https://labrewersguild.org/event/brewery-yoga-at-trademark-brewing/2025-01-25/
CATEGORIES:Family Friendly,Other
ATTACH;FMTTYPE=image/png:https://labrewersguild.org/wp-content/uploads/2024/06/Posters-square.png
END:VEVENT
BEGIN:VEVENT
DTSTART;TZID=America/Los_Angeles:20250121T183000
DTEND;TZID=America/Los_Angeles:20250121T203000
DTSTAMP:20260423T073749
CREATED:20240905T030915Z
LAST-MODIFIED:20240905T031333Z
UID:10000771-1737484200-1737491400@labrewersguild.org
SUMMARY:Trivia with Gabe at Common Space Brewery
DESCRIPTION:Grab a group of smart and witty friends and join us for Trivia every Tuesday at 6:30pm in our taproom in Hawthorne\, CA. Play and win a variety of prizes from gift cards to beers. We are dog friendly and family friendly. Max groups of 6.
URL:https://labrewersguild.org/event/trivia-with-gabe-at-common-space-brewery/2025-01-21/
LOCATION:Common Space Brewery\, 3411 W El Segundo Blvd\, Hawthorne\, CA\, 90250\, United States
CATEGORIES:Other
ATTACH;FMTTYPE=image/png:https://labrewersguild.org/wp-content/uploads/2024/09/Trivia-with-Gabe-5-x-5-in-1.png
END:VEVENT
END:VCALENDAR