BEGIN:VCALENDAR
VERSION:2.0
PRODID:-//LA County Brewers Guild - ECPv6.15.20//NONSGML v1.0//EN
CALSCALE:GREGORIAN
METHOD:PUBLISH
X-ORIGINAL-URL:https://labrewersguild.org
X-WR-CALDESC:Events for LA County Brewers Guild
REFRESH-INTERVAL;VALUE=DURATION:PT1H
X-Robots-Tag:noindex
X-PUBLISHED-TTL:PT1H
BEGIN:VTIMEZONE
TZID:America/Los_Angeles
BEGIN:DAYLIGHT
TZOFFSETFROM:-0800
TZOFFSETTO:-0700
TZNAME:PDT
DTSTART:20240310T100000
END:DAYLIGHT
BEGIN:STANDARD
TZOFFSETFROM:-0700
TZOFFSETTO:-0800
TZNAME:PST
DTSTART:20241103T090000
END:STANDARD
BEGIN:DAYLIGHT
TZOFFSETFROM:-0800
TZOFFSETTO:-0700
TZNAME:PDT
DTSTART:20250309T100000
END:DAYLIGHT
BEGIN:STANDARD
TZOFFSETFROM:-0700
TZOFFSETTO:-0800
TZNAME:PST
DTSTART:20251102T090000
END:STANDARD
BEGIN:DAYLIGHT
TZOFFSETFROM:-0800
TZOFFSETTO:-0700
TZNAME:PDT
DTSTART:20260308T100000
END:DAYLIGHT
BEGIN:STANDARD
TZOFFSETFROM:-0700
TZOFFSETTO:-0800
TZNAME:PST
DTSTART:20261101T090000
END:STANDARD
END:VTIMEZONE
BEGIN:VEVENT
DTSTART;TZID=America/Los_Angeles:20250819T190000
DTEND;TZID=America/Los_Angeles:20250819T220000
DTSTAMP:20260422T233746
CREATED:20250604T231633Z
LAST-MODIFIED:20250604T231633Z
UID:10000912-1755630000-1755640800@labrewersguild.org
SUMMARY:Trivia Night at Lawless Beer Company
DESCRIPTION:Weekly trivia night every Tuesday with our very own Dan Botello hosting.  Great beer\, food trucks and gift card prizes for winning teams each week.
URL:https://labrewersguild.org/event/trivia-night-at-lawless-beer-company/2025-08-19/
LOCATION:Lawless Brewing Company\, 5275 Craner Avenue\, North Hollywood\, 91601
CATEGORIES:Other
ATTACH;FMTTYPE=image/png:https://labrewersguild.org/wp-content/uploads/2025/06/trivia-night-tuesday-post.png
END:VEVENT
BEGIN:VEVENT
DTSTART;TZID=America/Los_Angeles:20250819T183000
DTEND;TZID=America/Los_Angeles:20250819T203000
DTSTAMP:20260422T233746
CREATED:20240905T030915Z
LAST-MODIFIED:20240905T031333Z
UID:10000801-1755628200-1755635400@labrewersguild.org
SUMMARY:Trivia with Gabe at Common Space Brewery
DESCRIPTION:Grab a group of smart and witty friends and join us for Trivia every Tuesday at 6:30pm in our taproom in Hawthorne\, CA. Play and win a variety of prizes from gift cards to beers. We are dog friendly and family friendly. Max groups of 6.
URL:https://labrewersguild.org/event/trivia-with-gabe-at-common-space-brewery/2025-08-19/
LOCATION:Common Space Brewery\, 3411 W El Segundo Blvd\, Hawthorne\, CA\, 90250\, United States
CATEGORIES:Other
ATTACH;FMTTYPE=image/png:https://labrewersguild.org/wp-content/uploads/2024/09/Trivia-with-Gabe-5-x-5-in-1.png
END:VEVENT
BEGIN:VEVENT
DTSTART;TZID=America/Los_Angeles:20250812T190000
DTEND;TZID=America/Los_Angeles:20250812T220000
DTSTAMP:20260422T233746
CREATED:20250604T231633Z
LAST-MODIFIED:20250604T231633Z
UID:10000911-1755025200-1755036000@labrewersguild.org
SUMMARY:Trivia Night at Lawless Beer Company
DESCRIPTION:Weekly trivia night every Tuesday with our very own Dan Botello hosting.  Great beer\, food trucks and gift card prizes for winning teams each week.
URL:https://labrewersguild.org/event/trivia-night-at-lawless-beer-company/2025-08-12/
LOCATION:Lawless Brewing Company\, 5275 Craner Avenue\, North Hollywood\, 91601
CATEGORIES:Other
ATTACH;FMTTYPE=image/png:https://labrewersguild.org/wp-content/uploads/2025/06/trivia-night-tuesday-post.png
END:VEVENT
BEGIN:VEVENT
DTSTART;TZID=America/Los_Angeles:20250812T183000
DTEND;TZID=America/Los_Angeles:20250812T203000
DTSTAMP:20260422T233746
CREATED:20240905T030915Z
LAST-MODIFIED:20240905T031333Z
UID:10000800-1755023400-1755030600@labrewersguild.org
SUMMARY:Trivia with Gabe at Common Space Brewery
DESCRIPTION:Grab a group of smart and witty friends and join us for Trivia every Tuesday at 6:30pm in our taproom in Hawthorne\, CA. Play and win a variety of prizes from gift cards to beers. We are dog friendly and family friendly. Max groups of 6.
URL:https://labrewersguild.org/event/trivia-with-gabe-at-common-space-brewery/2025-08-12/
LOCATION:Common Space Brewery\, 3411 W El Segundo Blvd\, Hawthorne\, CA\, 90250\, United States
CATEGORIES:Other
ATTACH;FMTTYPE=image/png:https://labrewersguild.org/wp-content/uploads/2024/09/Trivia-with-Gabe-5-x-5-in-1.png
END:VEVENT
BEGIN:VEVENT
DTSTART;TZID=America/Los_Angeles:20250806T173000
DTEND;TZID=America/Los_Angeles:20250806T210000
DTSTAMP:20260422T233746
CREATED:20250616T014352Z
LAST-MODIFIED:20250616T014352Z
UID:10001445-1754501400-1754514000@labrewersguild.org
SUMMARY:Cornhole Tourny at Trademark
DESCRIPTION:Join us for bi-weekly cornhole Tournaments at Trademark Brewing! \nAll skill levels are welcome! \nHosted by: Long Beach Cornhole \n5:30 check-in / 6:30 game on!
URL:https://labrewersguild.org/event/cornhole-tourny-at-trademark-2/2025-08-06/
CATEGORIES:Family Friendly,Other
ATTACH;FMTTYPE=image/jpeg:https://labrewersguild.org/wp-content/uploads/2024/06/TM_Cornhole_Banner-Header.jpg
END:VEVENT
BEGIN:VEVENT
DTSTART;TZID=America/Los_Angeles:20250805T190000
DTEND;TZID=America/Los_Angeles:20250805T220000
DTSTAMP:20260422T233746
CREATED:20250604T231633Z
LAST-MODIFIED:20250604T231633Z
UID:10000910-1754420400-1754431200@labrewersguild.org
SUMMARY:Trivia Night at Lawless Beer Company
DESCRIPTION:Weekly trivia night every Tuesday with our very own Dan Botello hosting.  Great beer\, food trucks and gift card prizes for winning teams each week.
URL:https://labrewersguild.org/event/trivia-night-at-lawless-beer-company/2025-08-05/
LOCATION:Lawless Brewing Company\, 5275 Craner Avenue\, North Hollywood\, 91601
CATEGORIES:Other
ATTACH;FMTTYPE=image/png:https://labrewersguild.org/wp-content/uploads/2025/06/trivia-night-tuesday-post.png
END:VEVENT
BEGIN:VEVENT
DTSTART;TZID=America/Los_Angeles:20250805T183000
DTEND;TZID=America/Los_Angeles:20250805T203000
DTSTAMP:20260422T233746
CREATED:20240905T030915Z
LAST-MODIFIED:20240905T031333Z
UID:10000799-1754418600-1754425800@labrewersguild.org
SUMMARY:Trivia with Gabe at Common Space Brewery
DESCRIPTION:Grab a group of smart and witty friends and join us for Trivia every Tuesday at 6:30pm in our taproom in Hawthorne\, CA. Play and win a variety of prizes from gift cards to beers. We are dog friendly and family friendly. Max groups of 6.
URL:https://labrewersguild.org/event/trivia-with-gabe-at-common-space-brewery/2025-08-05/
LOCATION:Common Space Brewery\, 3411 W El Segundo Blvd\, Hawthorne\, CA\, 90250\, United States
CATEGORIES:Other
ATTACH;FMTTYPE=image/png:https://labrewersguild.org/wp-content/uploads/2024/09/Trivia-with-Gabe-5-x-5-in-1.png
END:VEVENT
BEGIN:VEVENT
DTSTART;TZID=America/Los_Angeles:20250729T190000
DTEND;TZID=America/Los_Angeles:20250729T220000
DTSTAMP:20260422T233746
CREATED:20250604T231633Z
LAST-MODIFIED:20250604T231633Z
UID:10000909-1753815600-1753826400@labrewersguild.org
SUMMARY:Trivia Night at Lawless Beer Company
DESCRIPTION:Weekly trivia night every Tuesday with our very own Dan Botello hosting.  Great beer\, food trucks and gift card prizes for winning teams each week.
URL:https://labrewersguild.org/event/trivia-night-at-lawless-beer-company/2025-07-29/
LOCATION:Lawless Brewing Company\, 5275 Craner Avenue\, North Hollywood\, 91601
CATEGORIES:Other
ATTACH;FMTTYPE=image/png:https://labrewersguild.org/wp-content/uploads/2025/06/trivia-night-tuesday-post.png
END:VEVENT
BEGIN:VEVENT
DTSTART;TZID=America/Los_Angeles:20250729T183000
DTEND;TZID=America/Los_Angeles:20250729T203000
DTSTAMP:20260422T233746
CREATED:20240905T030915Z
LAST-MODIFIED:20240905T031333Z
UID:10000798-1753813800-1753821000@labrewersguild.org
SUMMARY:Trivia with Gabe at Common Space Brewery
DESCRIPTION:Grab a group of smart and witty friends and join us for Trivia every Tuesday at 6:30pm in our taproom in Hawthorne\, CA. Play and win a variety of prizes from gift cards to beers. We are dog friendly and family friendly. Max groups of 6.
URL:https://labrewersguild.org/event/trivia-with-gabe-at-common-space-brewery/2025-07-29/
LOCATION:Common Space Brewery\, 3411 W El Segundo Blvd\, Hawthorne\, CA\, 90250\, United States
CATEGORIES:Other
ATTACH;FMTTYPE=image/png:https://labrewersguild.org/wp-content/uploads/2024/09/Trivia-with-Gabe-5-x-5-in-1.png
END:VEVENT
BEGIN:VEVENT
DTSTART;TZID=America/Los_Angeles:20250723T173000
DTEND;TZID=America/Los_Angeles:20250723T210000
DTSTAMP:20260422T233746
CREATED:20250616T014352Z
LAST-MODIFIED:20250616T014352Z
UID:10001444-1753291800-1753304400@labrewersguild.org
SUMMARY:Cornhole Tourny at Trademark
DESCRIPTION:Join us for bi-weekly cornhole Tournaments at Trademark Brewing! \nAll skill levels are welcome! \nHosted by: Long Beach Cornhole \n5:30 check-in / 6:30 game on!
URL:https://labrewersguild.org/event/cornhole-tourny-at-trademark-2/2025-07-23/
CATEGORIES:Family Friendly,Other
ATTACH;FMTTYPE=image/jpeg:https://labrewersguild.org/wp-content/uploads/2024/06/TM_Cornhole_Banner-Header.jpg
END:VEVENT
BEGIN:VEVENT
DTSTART;TZID=America/Los_Angeles:20250722T190000
DTEND;TZID=America/Los_Angeles:20250722T220000
DTSTAMP:20260422T233746
CREATED:20250604T231633Z
LAST-MODIFIED:20250604T231633Z
UID:10000908-1753210800-1753221600@labrewersguild.org
SUMMARY:Trivia Night at Lawless Beer Company
DESCRIPTION:Weekly trivia night every Tuesday with our very own Dan Botello hosting.  Great beer\, food trucks and gift card prizes for winning teams each week.
URL:https://labrewersguild.org/event/trivia-night-at-lawless-beer-company/2025-07-22/
LOCATION:Lawless Brewing Company\, 5275 Craner Avenue\, North Hollywood\, 91601
CATEGORIES:Other
ATTACH;FMTTYPE=image/png:https://labrewersguild.org/wp-content/uploads/2025/06/trivia-night-tuesday-post.png
END:VEVENT
BEGIN:VEVENT
DTSTART;TZID=America/Los_Angeles:20250722T183000
DTEND;TZID=America/Los_Angeles:20250722T203000
DTSTAMP:20260422T233746
CREATED:20240905T030915Z
LAST-MODIFIED:20240905T031333Z
UID:10000797-1753209000-1753216200@labrewersguild.org
SUMMARY:Trivia with Gabe at Common Space Brewery
DESCRIPTION:Grab a group of smart and witty friends and join us for Trivia every Tuesday at 6:30pm in our taproom in Hawthorne\, CA. Play and win a variety of prizes from gift cards to beers. We are dog friendly and family friendly. Max groups of 6.
URL:https://labrewersguild.org/event/trivia-with-gabe-at-common-space-brewery/2025-07-22/
LOCATION:Common Space Brewery\, 3411 W El Segundo Blvd\, Hawthorne\, CA\, 90250\, United States
CATEGORIES:Other
ATTACH;FMTTYPE=image/png:https://labrewersguild.org/wp-content/uploads/2024/09/Trivia-with-Gabe-5-x-5-in-1.png
END:VEVENT
BEGIN:VEVENT
DTSTART;TZID=America/Los_Angeles:20250715T190000
DTEND;TZID=America/Los_Angeles:20250715T220000
DTSTAMP:20260422T233746
CREATED:20250604T231633Z
LAST-MODIFIED:20250604T231633Z
UID:10000907-1752606000-1752616800@labrewersguild.org
SUMMARY:Trivia Night at Lawless Beer Company
DESCRIPTION:Weekly trivia night every Tuesday with our very own Dan Botello hosting.  Great beer\, food trucks and gift card prizes for winning teams each week.
URL:https://labrewersguild.org/event/trivia-night-at-lawless-beer-company/2025-07-15/
LOCATION:Lawless Brewing Company\, 5275 Craner Avenue\, North Hollywood\, 91601
CATEGORIES:Other
ATTACH;FMTTYPE=image/png:https://labrewersguild.org/wp-content/uploads/2025/06/trivia-night-tuesday-post.png
END:VEVENT
BEGIN:VEVENT
DTSTART;TZID=America/Los_Angeles:20250715T183000
DTEND;TZID=America/Los_Angeles:20250715T203000
DTSTAMP:20260422T233746
CREATED:20240905T030915Z
LAST-MODIFIED:20240905T031333Z
UID:10000796-1752604200-1752611400@labrewersguild.org
SUMMARY:Trivia with Gabe at Common Space Brewery
DESCRIPTION:Grab a group of smart and witty friends and join us for Trivia every Tuesday at 6:30pm in our taproom in Hawthorne\, CA. Play and win a variety of prizes from gift cards to beers. We are dog friendly and family friendly. Max groups of 6.
URL:https://labrewersguild.org/event/trivia-with-gabe-at-common-space-brewery/2025-07-15/
LOCATION:Common Space Brewery\, 3411 W El Segundo Blvd\, Hawthorne\, CA\, 90250\, United States
CATEGORIES:Other
ATTACH;FMTTYPE=image/png:https://labrewersguild.org/wp-content/uploads/2024/09/Trivia-with-Gabe-5-x-5-in-1.png
END:VEVENT
BEGIN:VEVENT
DTSTART;TZID=America/Los_Angeles:20250709T173000
DTEND;TZID=America/Los_Angeles:20250709T210000
DTSTAMP:20260422T233746
CREATED:20250616T014352Z
LAST-MODIFIED:20250616T014352Z
UID:10001443-1752082200-1752094800@labrewersguild.org
SUMMARY:Cornhole Tourny at Trademark
DESCRIPTION:Join us for bi-weekly cornhole Tournaments at Trademark Brewing! \nAll skill levels are welcome! \nHosted by: Long Beach Cornhole \n5:30 check-in / 6:30 game on!
URL:https://labrewersguild.org/event/cornhole-tourny-at-trademark-2/2025-07-09/
CATEGORIES:Family Friendly,Other
ATTACH;FMTTYPE=image/jpeg:https://labrewersguild.org/wp-content/uploads/2024/06/TM_Cornhole_Banner-Header.jpg
END:VEVENT
BEGIN:VEVENT
DTSTART;TZID=America/Los_Angeles:20250708T190000
DTEND;TZID=America/Los_Angeles:20250708T220000
DTSTAMP:20260422T233746
CREATED:20250604T231633Z
LAST-MODIFIED:20250604T231633Z
UID:10000906-1752001200-1752012000@labrewersguild.org
SUMMARY:Trivia Night at Lawless Beer Company
DESCRIPTION:Weekly trivia night every Tuesday with our very own Dan Botello hosting.  Great beer\, food trucks and gift card prizes for winning teams each week.
URL:https://labrewersguild.org/event/trivia-night-at-lawless-beer-company/2025-07-08/
LOCATION:Lawless Brewing Company\, 5275 Craner Avenue\, North Hollywood\, 91601
CATEGORIES:Other
ATTACH;FMTTYPE=image/png:https://labrewersguild.org/wp-content/uploads/2025/06/trivia-night-tuesday-post.png
END:VEVENT
BEGIN:VEVENT
DTSTART;TZID=America/Los_Angeles:20250708T183000
DTEND;TZID=America/Los_Angeles:20250708T203000
DTSTAMP:20260422T233746
CREATED:20240905T030915Z
LAST-MODIFIED:20240905T031333Z
UID:10000795-1751999400-1752006600@labrewersguild.org
SUMMARY:Trivia with Gabe at Common Space Brewery
DESCRIPTION:Grab a group of smart and witty friends and join us for Trivia every Tuesday at 6:30pm in our taproom in Hawthorne\, CA. Play and win a variety of prizes from gift cards to beers. We are dog friendly and family friendly. Max groups of 6.
URL:https://labrewersguild.org/event/trivia-with-gabe-at-common-space-brewery/2025-07-08/
LOCATION:Common Space Brewery\, 3411 W El Segundo Blvd\, Hawthorne\, CA\, 90250\, United States
CATEGORIES:Other
ATTACH;FMTTYPE=image/png:https://labrewersguild.org/wp-content/uploads/2024/09/Trivia-with-Gabe-5-x-5-in-1.png
END:VEVENT
BEGIN:VEVENT
DTSTART;TZID=America/Los_Angeles:20250701T190000
DTEND;TZID=America/Los_Angeles:20250701T220000
DTSTAMP:20260422T233746
CREATED:20250604T231633Z
LAST-MODIFIED:20250604T231633Z
UID:10000905-1751396400-1751407200@labrewersguild.org
SUMMARY:Trivia Night at Lawless Beer Company
DESCRIPTION:Weekly trivia night every Tuesday with our very own Dan Botello hosting.  Great beer\, food trucks and gift card prizes for winning teams each week.
URL:https://labrewersguild.org/event/trivia-night-at-lawless-beer-company/2025-07-01/
LOCATION:Lawless Brewing Company\, 5275 Craner Avenue\, North Hollywood\, 91601
CATEGORIES:Other
ATTACH;FMTTYPE=image/png:https://labrewersguild.org/wp-content/uploads/2025/06/trivia-night-tuesday-post.png
END:VEVENT
BEGIN:VEVENT
DTSTART;TZID=America/Los_Angeles:20250701T183000
DTEND;TZID=America/Los_Angeles:20250701T203000
DTSTAMP:20260422T233746
CREATED:20240905T030915Z
LAST-MODIFIED:20240905T031333Z
UID:10000794-1751394600-1751401800@labrewersguild.org
SUMMARY:Trivia with Gabe at Common Space Brewery
DESCRIPTION:Grab a group of smart and witty friends and join us for Trivia every Tuesday at 6:30pm in our taproom in Hawthorne\, CA. Play and win a variety of prizes from gift cards to beers. We are dog friendly and family friendly. Max groups of 6.
URL:https://labrewersguild.org/event/trivia-with-gabe-at-common-space-brewery/2025-07-01/
LOCATION:Common Space Brewery\, 3411 W El Segundo Blvd\, Hawthorne\, CA\, 90250\, United States
CATEGORIES:Other
ATTACH;FMTTYPE=image/png:https://labrewersguild.org/wp-content/uploads/2024/09/Trivia-with-Gabe-5-x-5-in-1.png
END:VEVENT
BEGIN:VEVENT
DTSTART;TZID=America/Los_Angeles:20250625T173000
DTEND;TZID=America/Los_Angeles:20250625T210000
DTSTAMP:20260422T233746
CREATED:20250616T014352Z
LAST-MODIFIED:20250616T014352Z
UID:10000100-1750872600-1750885200@labrewersguild.org
SUMMARY:Cornhole Tourny at Trademark
DESCRIPTION:Join us for bi-weekly cornhole Tournaments at Trademark Brewing! \nAll skill levels are welcome! \nHosted by: Long Beach Cornhole \n5:30 check-in / 6:30 game on!
URL:https://labrewersguild.org/event/cornhole-tourny-at-trademark-2/2025-06-25/
CATEGORIES:Family Friendly,Other
ATTACH;FMTTYPE=image/jpeg:https://labrewersguild.org/wp-content/uploads/2024/06/TM_Cornhole_Banner-Header.jpg
END:VEVENT
BEGIN:VEVENT
DTSTART;TZID=America/Los_Angeles:20250624T190000
DTEND;TZID=America/Los_Angeles:20250624T220000
DTSTAMP:20260422T233746
CREATED:20250604T231633Z
LAST-MODIFIED:20250604T231633Z
UID:10000904-1750791600-1750802400@labrewersguild.org
SUMMARY:Trivia Night at Lawless Beer Company
DESCRIPTION:Weekly trivia night every Tuesday with our very own Dan Botello hosting.  Great beer\, food trucks and gift card prizes for winning teams each week.
URL:https://labrewersguild.org/event/trivia-night-at-lawless-beer-company/2025-06-24/
LOCATION:Lawless Brewing Company\, 5275 Craner Avenue\, North Hollywood\, 91601
CATEGORIES:Other
ATTACH;FMTTYPE=image/png:https://labrewersguild.org/wp-content/uploads/2025/06/trivia-night-tuesday-post.png
END:VEVENT
BEGIN:VEVENT
DTSTART;TZID=America/Los_Angeles:20250624T183000
DTEND;TZID=America/Los_Angeles:20250624T203000
DTSTAMP:20260422T233746
CREATED:20240905T030915Z
LAST-MODIFIED:20240905T031333Z
UID:10000793-1750789800-1750797000@labrewersguild.org
SUMMARY:Trivia with Gabe at Common Space Brewery
DESCRIPTION:Grab a group of smart and witty friends and join us for Trivia every Tuesday at 6:30pm in our taproom in Hawthorne\, CA. Play and win a variety of prizes from gift cards to beers. We are dog friendly and family friendly. Max groups of 6.
URL:https://labrewersguild.org/event/trivia-with-gabe-at-common-space-brewery/2025-06-24/
LOCATION:Common Space Brewery\, 3411 W El Segundo Blvd\, Hawthorne\, CA\, 90250\, United States
CATEGORIES:Other
ATTACH;FMTTYPE=image/png:https://labrewersguild.org/wp-content/uploads/2024/09/Trivia-with-Gabe-5-x-5-in-1.png
END:VEVENT
BEGIN:VEVENT
DTSTART;TZID=America/Los_Angeles:20250621T083000
DTEND;TZID=America/Los_Angeles:20250621T150000
DTSTAMP:20260422T233746
CREATED:20250617T211542Z
LAST-MODIFIED:20250617T212751Z
UID:10001682-1750494600-1750518000@labrewersguild.org
SUMMARY:LA Beer Week West Coast Classic
DESCRIPTION:Brought to you by Craftmaster Stainless and the LA Brewers Guild. \nThe LA West Coast Classic is back in LA to celebrate the tail end of the 2025 LA Beer Week. \nEach player will receive a custom stamped disc. Swag will be provided once again by supporting suppliers of the beer industry. Prizes for 1st-3rd. \nSign Up here. Please make a not of which brewery or company you work for in the sign up section! \nReach out to Mack@craftmasterstainless.com or call/text at (916)217-9950 with any questions. You must be in the beer/alcohol industry working at either a brewery\, taproom\, retail account or industry adjacent to play.
URL:https://labrewersguild.org/event/la-beer-week-west-coast-classic-2/
LOCATION:Oak Grove Disc Golf Course\, 4550 Oak Grove Dr\, La Cañada Flintridge\, 91011\, United States
CATEGORIES:LA Beer Week,Other
ATTACH;FMTTYPE=image/jpeg:https://labrewersguild.org/wp-content/uploads/2025/06/DiscGolf-Classic-2025.jpg
END:VEVENT
BEGIN:VEVENT
DTSTART;TZID=America/Los_Angeles:20250617T190000
DTEND;TZID=America/Los_Angeles:20250617T220000
DTSTAMP:20260422T233746
CREATED:20250604T232538Z
LAST-MODIFIED:20250604T232538Z
UID:10001163-1750186800-1750197600@labrewersguild.org
SUMMARY:Trivia Night at Lawless Beer Company
DESCRIPTION:Weekly trivia night every Tuesday with our very own Dan Botello hosting.  Great beer\, food trucks and gift card prizes for winning teams each week.
URL:https://labrewersguild.org/event/trivia-night-at-lawless-beer-company-2/
LOCATION:Lawless Brewing Company\, 5275 Craner Avenue\, North Hollywood\, 91601
CATEGORIES:LA Beer Week,Other
ATTACH;FMTTYPE=image/png:https://labrewersguild.org/wp-content/uploads/2025/06/trivia-night-tuesday-post.png
END:VEVENT
BEGIN:VEVENT
DTSTART;TZID=America/Los_Angeles:20250617T183000
DTEND;TZID=America/Los_Angeles:20250617T203000
DTSTAMP:20260422T233746
CREATED:20240905T030915Z
LAST-MODIFIED:20240905T031333Z
UID:10000792-1750185000-1750192200@labrewersguild.org
SUMMARY:Trivia with Gabe at Common Space Brewery
DESCRIPTION:Grab a group of smart and witty friends and join us for Trivia every Tuesday at 6:30pm in our taproom in Hawthorne\, CA. Play and win a variety of prizes from gift cards to beers. We are dog friendly and family friendly. Max groups of 6.
URL:https://labrewersguild.org/event/trivia-with-gabe-at-common-space-brewery/2025-06-17/
LOCATION:Common Space Brewery\, 3411 W El Segundo Blvd\, Hawthorne\, CA\, 90250\, United States
CATEGORIES:Other
ATTACH;FMTTYPE=image/png:https://labrewersguild.org/wp-content/uploads/2024/09/Trivia-with-Gabe-5-x-5-in-1.png
END:VEVENT
BEGIN:VEVENT
DTSTART;TZID=America/Los_Angeles:20250614T110000
DTEND;TZID=America/Los_Angeles:20250614T120000
DTSTAMP:20260422T233746
CREATED:20240621T170645Z
LAST-MODIFIED:20240720T194015Z
UID:10000519-1749898800-1749902400@labrewersguild.org
SUMMARY:Brewery Yoga at Trademark Brewing
DESCRIPTION:Join us every Saturday for BREWERY YOGA and namasté for a recovery beer at Trademark Brewing!\n$15 admission includes: \n\nOne hour of professional instruction by a certified yoga teacher.\nUnlimited ujjayi breathing.\nLimitless balance and inner peace.\nImproved flexibility and core strength.\nOne deliciously refreshing recovery beer.\nFree Parking is available at our lot: 1401 Long Beach Blvd with 100+ spaces! \n\nClasses start at 11 am. Please bring your own mats and arrive 10 minutes early.
URL:https://labrewersguild.org/event/brewery-yoga-at-trademark-brewing/2025-06-14/
CATEGORIES:Family Friendly,Other
ATTACH;FMTTYPE=image/png:https://labrewersguild.org/wp-content/uploads/2024/06/Posters-square.png
END:VEVENT
BEGIN:VEVENT
DTSTART;TZID=America/Los_Angeles:20250610T190000
DTEND;TZID=America/Los_Angeles:20250610T220000
DTSTAMP:20260422T233746
CREATED:20250604T231633Z
LAST-MODIFIED:20250604T231633Z
UID:10000903-1749582000-1749592800@labrewersguild.org
SUMMARY:Trivia Night at Lawless Beer Company
DESCRIPTION:Weekly trivia night every Tuesday with our very own Dan Botello hosting.  Great beer\, food trucks and gift card prizes for winning teams each week.
URL:https://labrewersguild.org/event/trivia-night-at-lawless-beer-company/2025-06-10/
LOCATION:Lawless Brewing Company\, 5275 Craner Avenue\, North Hollywood\, 91601
CATEGORIES:Other
ATTACH;FMTTYPE=image/png:https://labrewersguild.org/wp-content/uploads/2025/06/trivia-night-tuesday-post.png
END:VEVENT
BEGIN:VEVENT
DTSTART;TZID=America/Los_Angeles:20250610T183000
DTEND;TZID=America/Los_Angeles:20250610T203000
DTSTAMP:20260422T233746
CREATED:20240905T030915Z
LAST-MODIFIED:20240905T031333Z
UID:10000791-1749580200-1749587400@labrewersguild.org
SUMMARY:Trivia with Gabe at Common Space Brewery
DESCRIPTION:Grab a group of smart and witty friends and join us for Trivia every Tuesday at 6:30pm in our taproom in Hawthorne\, CA. Play and win a variety of prizes from gift cards to beers. We are dog friendly and family friendly. Max groups of 6.
URL:https://labrewersguild.org/event/trivia-with-gabe-at-common-space-brewery/2025-06-10/
LOCATION:Common Space Brewery\, 3411 W El Segundo Blvd\, Hawthorne\, CA\, 90250\, United States
CATEGORIES:Other
ATTACH;FMTTYPE=image/png:https://labrewersguild.org/wp-content/uploads/2024/09/Trivia-with-Gabe-5-x-5-in-1.png
END:VEVENT
BEGIN:VEVENT
DTSTART;TZID=America/Los_Angeles:20250607T110000
DTEND;TZID=America/Los_Angeles:20250607T120000
DTSTAMP:20260422T233746
CREATED:20240621T170645Z
LAST-MODIFIED:20240720T194015Z
UID:10000518-1749294000-1749297600@labrewersguild.org
SUMMARY:Brewery Yoga at Trademark Brewing
DESCRIPTION:Join us every Saturday for BREWERY YOGA and namasté for a recovery beer at Trademark Brewing!\n$15 admission includes: \n\nOne hour of professional instruction by a certified yoga teacher.\nUnlimited ujjayi breathing.\nLimitless balance and inner peace.\nImproved flexibility and core strength.\nOne deliciously refreshing recovery beer.\nFree Parking is available at our lot: 1401 Long Beach Blvd with 100+ spaces! \n\nClasses start at 11 am. Please bring your own mats and arrive 10 minutes early.
URL:https://labrewersguild.org/event/brewery-yoga-at-trademark-brewing/2025-06-07/
CATEGORIES:Family Friendly,Other
ATTACH;FMTTYPE=image/png:https://labrewersguild.org/wp-content/uploads/2024/06/Posters-square.png
END:VEVENT
BEGIN:VEVENT
DTSTART;TZID=America/Los_Angeles:20250604T173000
DTEND;TZID=America/Los_Angeles:20250604T210000
DTSTAMP:20260422T233746
CREATED:20240619T172209Z
LAST-MODIFIED:20240619T172209Z
UID:10000099-1749058200-1749070800@labrewersguild.org
SUMMARY:Cornhole Tourny at Trademark
DESCRIPTION:Join us for cornhole Tournaments at Trademark Brewing! \nAll skill levels are welcome! \nHosted by: Long Beach Cornhole \n5:30 check-in / 6:30 game on!
URL:https://labrewersguild.org/event/cornhole-tourny-at-trademark/2025-06-04/
CATEGORIES:Family Friendly,Other
ATTACH;FMTTYPE=image/jpeg:https://labrewersguild.org/wp-content/uploads/2024/06/TM_Cornhole_Banner-Header.jpg
END:VEVENT
END:VCALENDAR