BEGIN:VCALENDAR
VERSION:2.0
PRODID:-//LA County Brewers Guild - ECPv6.15.20//NONSGML v1.0//EN
CALSCALE:GREGORIAN
METHOD:PUBLISH
X-ORIGINAL-URL:https://labrewersguild.org
X-WR-CALDESC:Events for LA County Brewers Guild
REFRESH-INTERVAL;VALUE=DURATION:PT1H
X-Robots-Tag:noindex
X-PUBLISHED-TTL:PT1H
BEGIN:VTIMEZONE
TZID:America/Los_Angeles
BEGIN:DAYLIGHT
TZOFFSETFROM:-0800
TZOFFSETTO:-0700
TZNAME:PDT
DTSTART:20250309T100000
END:DAYLIGHT
BEGIN:STANDARD
TZOFFSETFROM:-0700
TZOFFSETTO:-0800
TZNAME:PST
DTSTART:20251102T090000
END:STANDARD
BEGIN:DAYLIGHT
TZOFFSETFROM:-0800
TZOFFSETTO:-0700
TZNAME:PDT
DTSTART:20260308T100000
END:DAYLIGHT
BEGIN:STANDARD
TZOFFSETFROM:-0700
TZOFFSETTO:-0800
TZNAME:PST
DTSTART:20261101T090000
END:STANDARD
BEGIN:DAYLIGHT
TZOFFSETFROM:-0800
TZOFFSETTO:-0700
TZNAME:PDT
DTSTART:20270314T100000
END:DAYLIGHT
BEGIN:STANDARD
TZOFFSETFROM:-0700
TZOFFSETTO:-0800
TZNAME:PST
DTSTART:20271107T090000
END:STANDARD
END:VTIMEZONE
BEGIN:VEVENT
DTSTART;TZID=America/Los_Angeles:20261006T190000
DTEND;TZID=America/Los_Angeles:20261006T220000
DTSTAMP:20260421T041836
CREATED:20250604T231633Z
LAST-MODIFIED:20250604T231633Z
UID:10000971-1791313200-1791324000@labrewersguild.org
SUMMARY:Trivia Night at Lawless Beer Company
DESCRIPTION:Weekly trivia night every Tuesday with our very own Dan Botello hosting.  Great beer\, food trucks and gift card prizes for winning teams each week.
URL:https://labrewersguild.org/event/trivia-night-at-lawless-beer-company/2026-10-06/
LOCATION:Lawless Brewing Company\, 5275 Craner Avenue\, North Hollywood\, 91601
CATEGORIES:Other
ATTACH;FMTTYPE=image/png:https://labrewersguild.org/wp-content/uploads/2025/06/trivia-night-tuesday-post.png
END:VEVENT
BEGIN:VEVENT
DTSTART;TZID=America/Los_Angeles:20261013T190000
DTEND;TZID=America/Los_Angeles:20261013T220000
DTSTAMP:20260421T041836
CREATED:20250604T231633Z
LAST-MODIFIED:20250604T231633Z
UID:10000972-1791918000-1791928800@labrewersguild.org
SUMMARY:Trivia Night at Lawless Beer Company
DESCRIPTION:Weekly trivia night every Tuesday with our very own Dan Botello hosting.  Great beer\, food trucks and gift card prizes for winning teams each week.
URL:https://labrewersguild.org/event/trivia-night-at-lawless-beer-company/2026-10-13/
LOCATION:Lawless Brewing Company\, 5275 Craner Avenue\, North Hollywood\, 91601
CATEGORIES:Other
ATTACH;FMTTYPE=image/png:https://labrewersguild.org/wp-content/uploads/2025/06/trivia-night-tuesday-post.png
END:VEVENT
BEGIN:VEVENT
DTSTART;TZID=America/Los_Angeles:20261014T173000
DTEND;TZID=America/Los_Angeles:20261014T210000
DTSTAMP:20260421T041836
CREATED:20250616T014352Z
LAST-MODIFIED:20250616T014352Z
UID:10001476-1791999000-1792011600@labrewersguild.org
SUMMARY:Cornhole Tourny at Trademark
DESCRIPTION:Join us for bi-weekly cornhole Tournaments at Trademark Brewing! \nAll skill levels are welcome! \nHosted by: Long Beach Cornhole \n5:30 check-in / 6:30 game on!
URL:https://labrewersguild.org/event/cornhole-tourny-at-trademark-2/2026-10-14/
CATEGORIES:Family Friendly,Other
ATTACH;FMTTYPE=image/jpeg:https://labrewersguild.org/wp-content/uploads/2024/06/TM_Cornhole_Banner-Header.jpg
END:VEVENT
BEGIN:VEVENT
DTSTART;TZID=America/Los_Angeles:20261020T190000
DTEND;TZID=America/Los_Angeles:20261020T220000
DTSTAMP:20260421T041836
CREATED:20250604T231633Z
LAST-MODIFIED:20250604T231633Z
UID:10000973-1792522800-1792533600@labrewersguild.org
SUMMARY:Trivia Night at Lawless Beer Company
DESCRIPTION:Weekly trivia night every Tuesday with our very own Dan Botello hosting.  Great beer\, food trucks and gift card prizes for winning teams each week.
URL:https://labrewersguild.org/event/trivia-night-at-lawless-beer-company/2026-10-20/
LOCATION:Lawless Brewing Company\, 5275 Craner Avenue\, North Hollywood\, 91601
CATEGORIES:Other
ATTACH;FMTTYPE=image/png:https://labrewersguild.org/wp-content/uploads/2025/06/trivia-night-tuesday-post.png
END:VEVENT
BEGIN:VEVENT
DTSTART;TZID=America/Los_Angeles:20261027T190000
DTEND;TZID=America/Los_Angeles:20261027T220000
DTSTAMP:20260421T041836
CREATED:20250604T231633Z
LAST-MODIFIED:20250604T231633Z
UID:10000974-1793127600-1793138400@labrewersguild.org
SUMMARY:Trivia Night at Lawless Beer Company
DESCRIPTION:Weekly trivia night every Tuesday with our very own Dan Botello hosting.  Great beer\, food trucks and gift card prizes for winning teams each week.
URL:https://labrewersguild.org/event/trivia-night-at-lawless-beer-company/2026-10-27/
LOCATION:Lawless Brewing Company\, 5275 Craner Avenue\, North Hollywood\, 91601
CATEGORIES:Other
ATTACH;FMTTYPE=image/png:https://labrewersguild.org/wp-content/uploads/2025/06/trivia-night-tuesday-post.png
END:VEVENT
BEGIN:VEVENT
DTSTART;TZID=America/Los_Angeles:20261028T173000
DTEND;TZID=America/Los_Angeles:20261028T210000
DTSTAMP:20260421T041836
CREATED:20250616T014352Z
LAST-MODIFIED:20250616T014352Z
UID:10001477-1793208600-1793221200@labrewersguild.org
SUMMARY:Cornhole Tourny at Trademark
DESCRIPTION:Join us for bi-weekly cornhole Tournaments at Trademark Brewing! \nAll skill levels are welcome! \nHosted by: Long Beach Cornhole \n5:30 check-in / 6:30 game on!
URL:https://labrewersguild.org/event/cornhole-tourny-at-trademark-2/2026-10-28/
CATEGORIES:Family Friendly,Other
ATTACH;FMTTYPE=image/jpeg:https://labrewersguild.org/wp-content/uploads/2024/06/TM_Cornhole_Banner-Header.jpg
END:VEVENT
END:VCALENDAR