BEGIN:VCALENDAR
VERSION:2.0
PRODID:-//LA County Brewers Guild - ECPv6.15.20//NONSGML v1.0//EN
CALSCALE:GREGORIAN
METHOD:PUBLISH
X-ORIGINAL-URL:https://labrewersguild.org
X-WR-CALDESC:Events for LA County Brewers Guild
REFRESH-INTERVAL;VALUE=DURATION:PT1H
X-Robots-Tag:noindex
X-PUBLISHED-TTL:PT1H
BEGIN:VTIMEZONE
TZID:America/Los_Angeles
BEGIN:DAYLIGHT
TZOFFSETFROM:-0800
TZOFFSETTO:-0700
TZNAME:PDT
DTSTART:20230312T100000
END:DAYLIGHT
BEGIN:STANDARD
TZOFFSETFROM:-0700
TZOFFSETTO:-0800
TZNAME:PST
DTSTART:20231105T090000
END:STANDARD
BEGIN:DAYLIGHT
TZOFFSETFROM:-0800
TZOFFSETTO:-0700
TZNAME:PDT
DTSTART:20240310T100000
END:DAYLIGHT
BEGIN:STANDARD
TZOFFSETFROM:-0700
TZOFFSETTO:-0800
TZNAME:PST
DTSTART:20241103T090000
END:STANDARD
BEGIN:DAYLIGHT
TZOFFSETFROM:-0800
TZOFFSETTO:-0700
TZNAME:PDT
DTSTART:20250309T100000
END:DAYLIGHT
BEGIN:STANDARD
TZOFFSETFROM:-0700
TZOFFSETTO:-0800
TZNAME:PST
DTSTART:20251102T090000
END:STANDARD
END:VTIMEZONE
BEGIN:VEVENT
DTSTART;TZID=America/Los_Angeles:20240614T140000
DTEND;TZID=America/Los_Angeles:20240614T235500
DTSTAMP:20260423T191913
CREATED:20240524T070927Z
LAST-MODIFIED:20240525T223846Z
UID:10000004-1718373600-1718409300@labrewersguild.org
SUMMARY:Common Space x LA Ale Works Block Party
DESCRIPTION:Kick off LA Beer Week in the Hawthorne Beer District! Neighbors Common Space Brewery & LA Ale Works have teamed up for a Summer Block Party featuring BBQ and other summer treats\, live music\, DJs\, specialty drinks\, new merch\, new beer\, & more!
URL:https://labrewersguild.org/event/common-space-x-la-ale-works-block-party/
CATEGORIES:Collaboration,Food,LA Beer Week,Music,Party
ATTACH;FMTTYPE=image/jpeg:https://labrewersguild.org/wp-content/uploads/2024/05/Block-Party-2024_Flyer.jpg
END:VEVENT
BEGIN:VEVENT
DTSTART;TZID=America/Los_Angeles:20240616T110000
DTEND;TZID=America/Los_Angeles:20240616T170000
DTSTAMP:20260423T191913
CREATED:20240612T235833Z
LAST-MODIFIED:20240612T235833Z
UID:10000058-1718535600-1718557200@labrewersguild.org
SUMMARY:Father's Day BBQ Brunch & Bands at Brouwerij West
DESCRIPTION:Free live music event in our courtyard + special Father’s Day menu from Shady Grove Foods \nMusic from Chola Orange and Joker’s Hand Acoustic \nRecord Swap with Steady Beat Records \nIn addition to Shady Grove\, food from Wafl Truck & Messi Burger (starting at 4) \nShady Grove will have their regular menu + Special Menu items including: \n\nTomahawk Pork Chop – 20oz duroc pork chop smoked and grilled then topped with mango salsa\nNew York S teak – lightly smoked and grilled New York Strip Steak with house made chimichurri \nSmoked Cajun Meatloaf – spicy smoky meatloaf topped with a Cajun brown gravy\nBacon Milk Buns – House-made milk buns with bacon\, cilantro\, green onion\, quick pickle and pomegranate reduction\nGrilled Shrimp/ Surf & Turf \nPickled eggs\nStrawberry Shortcake\n\n 
URL:https://labrewersguild.org/event/fathers-day-bbq-brunch-bands-at-brouwerij-west/
LOCATION:Brouwerij West\, 110 E. 22nd Street\, San Pedro\, CA\, 90731\, United States
CATEGORIES:Family Friendly,Food,Holiday,LA Beer Week,Music,Party
ATTACH;FMTTYPE=image/png:https://labrewersguild.org/wp-content/uploads/2024/06/Orange-and-Black-Restaurant-Live-Music-Event-Animated-Social-Media-3.png
END:VEVENT
BEGIN:VEVENT
DTSTART;TZID=America/Los_Angeles:20240618T180000
DTEND;TZID=America/Los_Angeles:20240618T220000
DTSTAMP:20260423T191913
CREATED:20240612T235900Z
LAST-MODIFIED:20240613T155527Z
UID:10000057-1718733600-1718748000@labrewersguild.org
SUMMARY:DraughtLab Sensory Night
DESCRIPTION:Draught Lab Sensory Night – We would like to invite our Craft Beer Peers to do a sensory evaluation of three of our beers using Sample Ox\, an app created by DraughtLab to rate beers\, give feedback\, and become a better taster. Come hang out with buds\, suds\, and compare notes!
URL:https://labrewersguild.org/event/draughtlab-sensory-night/
LOCATION:Ambitious Ales\, 4019 Atlantic Ave.\, Long Beach\, CA\, 90807\, United States
CATEGORIES:Collaboration,Family Friendly,Food,Holiday,LA Beer Week,Tasting
ATTACH;FMTTYPE=image/jpeg:https://labrewersguild.org/wp-content/uploads/2024/06/draught_lab_sensory_night-scaled.jpg
END:VEVENT
BEGIN:VEVENT
DTSTART;TZID=America/Los_Angeles:20240621T160000
DTEND;TZID=America/Los_Angeles:20240621T200000
DTSTAMP:20260423T191913
CREATED:20240615T061217Z
LAST-MODIFIED:20240616T180520Z
UID:10000062-1718985600-1719000000@labrewersguild.org
SUMMARY:Gelson’s LB Pint Night w/ El Segundo Brewing - Collaboration Beer Launch
DESCRIPTION:It’s time to raise a pint and celebrate the launch of Gelson’s Summer Blonde Ale created in collaboration with El Segundo Brewing at Gelson’s Long Beach Pint Night at Gelson’s recently opened LB Alehouse on Friday\, June 21\, from 4pm to 8pm. \nCraft beer lovers are invited to head to the Gelson’s LB Alehouse to enjoy a $3 commemorative pint that includes the first pour of Gelson’s Summer Blonde Ale; each additional pour of the collaborative brew will be $5 each. Pair the beer with a selection of appetizers including Sriracha Shrimp\, Crab Cakes with Cajun Remoulade sauce\, Truffle Mac n’ Cheese\, Lobster Sliders and Trio of Sliders for $2 off. In addition to beer and wine\, the updated space will serve cheese plates and other items to nosh on while enjoying the view. \nFor more information about Gelson’s Wine Bars\, please visit https://www.gelsons.com/recipes-wine-and-food/gelsons-wine-bars
URL:https://labrewersguild.org/event/gelsons-el-segundo-pint-night/
LOCATION:Gelsons\, 6255 2nd St\, Long Beach\, 90803
CATEGORIES:Collaboration,Food,LA Beer Week
END:VEVENT
BEGIN:VEVENT
DTSTART;TZID=America/Los_Angeles:20240622T160000
DTEND;TZID=America/Los_Angeles:20240622T220000
DTSTAMP:20260423T191913
CREATED:20240605T165830Z
LAST-MODIFIED:20240605T165830Z
UID:10000038-1719072000-1719093600@labrewersguild.org
SUMMARY:Brewyard's 6th Annual Art Festival
DESCRIPTION:Join us for some fun in the sun at this year’s Brewyard Art Festival!\n\nCome out and support your community of 20+ local artists and vendors. There will be so much good food\, live music\, DJ’s and of course\, special beer releases!\n\nLive music by\n53 Trees-70’s/80s Cover Band\nLazy Dog Mountain Band-Americana\, folk\, country blues.
URL:https://labrewersguild.org/event/brewyards-6th-annual-art-festival/
LOCATION:Brewyard Beer Co\, 906 Western Avenue\, Glendale\, CA\, 91201\, United States
CATEGORIES:Beer Release,Family Friendly,Festivals,Food,LA Beer Week,Music
ATTACH;FMTTYPE=image/png:https://labrewersguild.org/wp-content/uploads/2024/06/Art-Festival-2024.png
END:VEVENT
BEGIN:VEVENT
DTSTART;TZID=America/Los_Angeles:20240623T100000
DTEND;TZID=America/Los_Angeles:20240623T143000
DTSTAMP:20260423T191913
CREATED:20240602T180148Z
LAST-MODIFIED:20240602T180148Z
UID:10000026-1719136800-1719153000@labrewersguild.org
SUMMARY:Hangover Brunch & Kick the Keg
DESCRIPTION:Beer weeks are long and take a toll on the body. Come relax with us and help us kick all of the leftover beer from the weeks events. Enjoy special pricing on a bunch of great beers from amazing brewers.
URL:https://labrewersguild.org/event/hangover-brunch-kick-the-keg/
LOCATION:ISM Brewing\, 210 East 3rd Street\, Ste A\, Long Beach\, CA\, 90802\, United States
CATEGORIES:Food,LA Beer Week
ATTACH;FMTTYPE=image/jpeg:https://labrewersguild.org/wp-content/uploads/2024/06/HangoverBrunch_ISM.jpg
END:VEVENT
END:VCALENDAR